BEGIN:VCALENDAR
VERSION:2.0
PRODID:-//Ultrafriesen e.V. - ECPv6.15.20//NONSGML v1.0//EN
CALSCALE:GREGORIAN
METHOD:PUBLISH
X-WR-CALNAME:Ultrafriesen e.V.
X-ORIGINAL-URL:https://ultrafriesen.de
X-WR-CALDESC:Veranstaltungen für Ultrafriesen e.V.
REFRESH-INTERVAL;VALUE=DURATION:PT1H
X-Robots-Tag:noindex
X-PUBLISHED-TTL:PT1H
BEGIN:VTIMEZONE
TZID:Europe/Berlin
BEGIN:DAYLIGHT
TZOFFSETFROM:+0100
TZOFFSETTO:+0200
TZNAME:CEST
DTSTART:20250330T010000
END:DAYLIGHT
BEGIN:STANDARD
TZOFFSETFROM:+0200
TZOFFSETTO:+0100
TZNAME:CET
DTSTART:20251026T010000
END:STANDARD
BEGIN:DAYLIGHT
TZOFFSETFROM:+0100
TZOFFSETTO:+0200
TZNAME:CEST
DTSTART:20260329T010000
END:DAYLIGHT
BEGIN:STANDARD
TZOFFSETFROM:+0200
TZOFFSETTO:+0100
TZNAME:CET
DTSTART:20261025T010000
END:STANDARD
BEGIN:DAYLIGHT
TZOFFSETFROM:+0100
TZOFFSETTO:+0200
TZNAME:CEST
DTSTART:20270328T010000
END:DAYLIGHT
BEGIN:STANDARD
TZOFFSETFROM:+0200
TZOFFSETTO:+0100
TZNAME:CET
DTSTART:20271031T010000
END:STANDARD
END:VTIMEZONE
BEGIN:VEVENT
DTSTART;TZID=Europe/Berlin:20260419T080000
DTEND;TZID=Europe/Berlin:20260419T220000
DTSTAMP:20260420T104321
CREATED:20251129T100835Z
LAST-MODIFIED:20251129T100835Z
UID:5588-1776585600-1776636000@ultrafriesen.de
SUMMARY:1. Lintig "One Hundred" 100 KM Lauf
DESCRIPTION:5 „kleine“ Runden a 20 Km für den ersten 100 KM Lauf in „Lintigland“….
URL:https://ultrafriesen.de/event/1-lintig-one-hundred-100-km-lauf/
LOCATION:Lintig\, Loge 17\, Geestland\, 27624\, Germany
ORGANIZER;CN="Ralf Dembeck":MAILTO:ralf.dembeck@outlook.de
END:VEVENT
BEGIN:VEVENT
DTSTART;TZID=Europe/Berlin:20260419T083000
DTEND;TZID=Europe/Berlin:20260419T173000
DTSTAMP:20260420T104321
CREATED:20260331T091526Z
LAST-MODIFIED:20260331T091526Z
UID:6330-1776587400-1776619800@ultrafriesen.de
SUMMARY:9. Arena Marathon/ Ultra
DESCRIPTION:Name des Laufs\n9. Arena Marathon/ Ultra \nVeranstalter\nBenjamin Hoogstraat \nDatum des Laufs\n19.04.2026 \nStart (Uhrzeit)\n8:30 \nZielschluss (Uhrzeit)\n17:30 \nStart (Adresse)\nEmder Straße 4\, 26603 Aurich \nStrecke\n42\,195 bis 45\,00 \nVerpflegung\nSelbstverpflegung \nToiletten\nnein \nDuschen\nnein \nStartgebühr\n0 \nAnmeldung bei (E-Mail)\nbenjaminhoogstraat@gmail.com
URL:https://ultrafriesen.de/event/9-arena-marathon-ultra/
CATEGORIES:Läufe von Ultrafriesen
END:VEVENT
END:VCALENDAR